BEGIN:VCALENDAR
VERSION:2.0
PRODID:-//empowercdc.org//NONSGML kigkonsult.se iCalcreator 2.30.10//
CALSCALE:GREGORIAN
METHOD:PUBLISH
UID:4987dc23-0147-4037-a52f-f0f735e6c7c4
X-WR-CALDESC:SOCIAL - Brunch-n-Learn\nResident Breakfast\n@10:00AM\n\nARTS 
 & CRAFTS - DoTerra\nEssential Oil Surprise\n@11:00AM\n\n*Resident only eve
 nt*
X-WR-RELCALID:07f8cba013aad07afda1dc7b80023fac
X-WR-TIMEZONE:America/Chicago
BEGIN:VTIMEZONE
TZID:America/Chicago
BEGIN:STANDARD
TZNAME:CST
DTSTART:20231105T020000
TZOFFSETFROM:-0500
TZOFFSETTO:-0600
RDATE:20241103T020000
RDATE:20251102T020000
END:STANDARD
BEGIN:DAYLIGHT
TZNAME:CDT
DTSTART:20240310T020000
TZOFFSETFROM:-0600
TZOFFSETTO:-0500
RDATE:20250309T020000
RDATE:20260308T020000
END:DAYLIGHT
END:VTIMEZONE
BEGIN:VEVENT
UID:50b41d70-a2bb-44cc-a03c-2056999f8f70
DTSTAMP:20260422T101438Z
DESCRIPTION:SOCIAL - Brunch-n-Learn\nResident Breakfast\n@10:00AM\n\nARTS &
  CRAFTS - DoTerra\nEssential Oil Surprise\n@11:00AM\n\n*Resident only even
 t*
DTSTART;TZID=America/Chicago:20240913T100000
DTEND;TZID=America/Chicago:20240913T120000
LOCATION:1830 Hollyoak Dr\, Houston\, TX 77084 US
SUMMARY:Hollyoak: Social\, Arts & Crafts
END:VEVENT
END:VCALENDAR
