BEGIN:VCALENDAR
VERSION:2.0
PRODID:-//empowercdc.org//NONSGML kigkonsult.se iCalcreator 2.30.10//
CALSCALE:GREGORIAN
METHOD:PUBLISH
UID:a908d41d-977c-4ff1-baab-52796f0f5223
X-WR-CALDESC:ARTS & CRAFTS-Empower\nRubber band Bracelets\n\n@ 3:00 PM\n\n*
 Resident only event*
X-WR-RELCALID:00e6a46e546c334e9ca21a6e6e05270d
X-WR-TIMEZONE:America/Chicago
BEGIN:VTIMEZONE
TZID:America/Chicago
BEGIN:STANDARD
TZNAME:CST
DTSTART:20231105T020000
TZOFFSETFROM:-0500
TZOFFSETTO:-0600
RDATE:20241103T020000
RDATE:20251102T020000
END:STANDARD
BEGIN:DAYLIGHT
TZNAME:CDT
DTSTART:20240310T020000
TZOFFSETFROM:-0600
TZOFFSETTO:-0500
RDATE:20250309T020000
RDATE:20260308T020000
END:DAYLIGHT
END:VTIMEZONE
BEGIN:VEVENT
UID:2a5295fd-09bf-43b6-8b6f-3830cfff6135
DTSTAMP:20260422T211656Z
DESCRIPTION:ARTS & CRAFTS-Empower\nRubber band Bracelets\n\n@ 3:00 PM\n\n*R
 esident only event*
DTSTART;TZID=America/Chicago:20240912T150000
DTEND;TZID=America/Chicago:20240912T160000
LOCATION:6725 Brittmoore Road\, Houston\, TX 77041 US
SUMMARY:Brittmoore: Arts & Crafts
END:VEVENT
END:VCALENDAR
