BEGIN:VCALENDAR
VERSION:2.0
PRODID:-//empowercdc.org//NONSGML kigkonsult.se iCalcreator 2.30.10//
CALSCALE:GREGORIAN
METHOD:PUBLISH
UID:ac8e9f3e-0b3c-4443-bf5e-5ba042a4d499
X-WR-CALDESC:SOCIAL- Empower\nMeet & Greet\n\n@ 3:00 PM\n\n*Resident only e
 vent*
X-WR-RELCALID:447024f2ef520f52dce1dffae515b0b9
X-WR-TIMEZONE:America/Chicago
BEGIN:VTIMEZONE
TZID:America/Chicago
BEGIN:STANDARD
TZNAME:CST
DTSTART:20231105T020000
TZOFFSETFROM:-0500
TZOFFSETTO:-0600
RDATE:20241103T020000
RDATE:20251102T020000
END:STANDARD
BEGIN:DAYLIGHT
TZNAME:CDT
DTSTART:20240310T020000
TZOFFSETFROM:-0600
TZOFFSETTO:-0500
RDATE:20250309T020000
RDATE:20260308T020000
END:DAYLIGHT
END:VTIMEZONE
BEGIN:VEVENT
UID:78ac7ff4-79d2-46b0-9678-9c95a71993f9
DTSTAMP:20260420T053825Z
DESCRIPTION:SOCIAL- Empower\nMeet & Greet\n\n@ 3:00 PM\n\n*Resident only ev
 ent*
DTSTART;TZID=America/Chicago:20240906T150000
DTEND;TZID=America/Chicago:20240906T160000
LOCATION:12353 Huffmeister Rd\, Cypress\, TX 77429 US
SUMMARY:The Meadows: Meet & Greet (Social)
END:VEVENT
END:VCALENDAR
