BEGIN:VCALENDAR
VERSION:2.0
PRODID:-//empowercdc.org//NONSGML kigkonsult.se iCalcreator 2.30.10//
CALSCALE:GREGORIAN
METHOD:PUBLISH
UID:a0c2196c-ce71-44a5-b984-48af3a3a148e
X-WR-CALDESC:ARTS & CRAFTS-DoTerra\n“Poop” purri Spray\n\n@11:00AM
X-WR-RELCALID:1df6100f2e7cf8360824a84048d46bad
X-WR-TIMEZONE:America/Chicago
BEGIN:VTIMEZONE
TZID:America/Chicago
BEGIN:STANDARD
TZNAME:CST
DTSTART:20231105T020000
TZOFFSETFROM:-0500
TZOFFSETTO:-0600
RDATE:20241103T020000
RDATE:20251102T020000
END:STANDARD
BEGIN:DAYLIGHT
TZNAME:CDT
DTSTART:20240310T020000
TZOFFSETFROM:-0600
TZOFFSETTO:-0500
RDATE:20250309T020000
END:DAYLIGHT
END:VTIMEZONE
BEGIN:VEVENT
UID:0b6469af-c6cc-41cc-ad75-00a36e8e0bcd
DTSTAMP:20260422T211844Z
DESCRIPTION:ARTS & CRAFTS-DoTerra\n“Poop” purri Spray\n\n@11:00AM
DTSTART;TZID=America/Chicago:20240905T110000
DTEND;TZID=America/Chicago:20240905T120000
LOCATION:219 Flagship Blvd\, Montgomery\, TX 77316 US
SUMMARY:The Heritage 55+: Arts & Craft
END:VEVENT
END:VCALENDAR
