BEGIN:VCALENDAR
VERSION:2.0
PRODID:-//empowercdc.org//NONSGML kigkonsult.se iCalcreator 2.30.10//
CALSCALE:GREGORIAN
METHOD:PUBLISH
UID:0b577ff8-e93a-4982-8627-8a0bb18bd8a1
X-WR-CALDESC:EXERCISE - LINE DANCE\n@10am\n\nSOCIAL - Musical Bingo\n\nComm
 unity Partner - Jeremy (GPHP)\n\n@11am\n\n*Resident only event*
X-WR-RELCALID:4e5001aabc203eedd30ecb85f00f903a
X-WR-TIMEZONE:America/Chicago
BEGIN:VTIMEZONE
TZID:America/Chicago
BEGIN:STANDARD
TZNAME:CST
DTSTART:20231105T020000
TZOFFSETFROM:-0500
TZOFFSETTO:-0600
RDATE:20241103T020000
RDATE:20251102T020000
END:STANDARD
BEGIN:DAYLIGHT
TZNAME:CDT
DTSTART:20240310T020000
TZOFFSETFROM:-0600
TZOFFSETTO:-0500
RDATE:20250309T020000
END:DAYLIGHT
END:VTIMEZONE
BEGIN:VEVENT
UID:aa469ee8-65b5-4863-8d9a-888448c076bd
DTSTAMP:20260422T210722Z
DESCRIPTION:EXERCISE - LINE DANCE\n@10am\n\nSOCIAL - Musical Bingo\n\nCommu
 nity Partner - Jeremy (GPHP)\n\n@11am\n\n*Resident only event*
DTSTART;TZID=America/Chicago:20240905T100000
DTEND;TZID=America/Chicago:20240905T120000
LOCATION:1717 FM359\, Richmond\, TX 77406 US
SUMMARY:Jones Creek: Exercise\, Social
END:VEVENT
END:VCALENDAR
