BEGIN:VCALENDAR
VERSION:2.0
PRODID:-//empowercdc.org//NONSGML kigkonsult.se iCalcreator 2.30.10//
CALSCALE:GREGORIAN
METHOD:PUBLISH
UID:ac3c7ac3-e91e-4bcc-bec3-24dcb184989b
X-WR-CALDESC:SOCIAL - Birthday Social\n@11:00AM\n\nEXERCISE- BONA Fitness\n
 Super Senior Fitness\n\n@1:00PM\n\n*Resident only event*
X-WR-RELCALID:1dde4dd1f76f9d734f3c1728148a1836
X-WR-TIMEZONE:America/Chicago
BEGIN:VTIMEZONE
TZID:America/Chicago
BEGIN:STANDARD
TZNAME:CST
DTSTART:20231105T020000
TZOFFSETFROM:-0500
TZOFFSETTO:-0600
RDATE:20241103T020000
RDATE:20251102T020000
END:STANDARD
BEGIN:DAYLIGHT
TZNAME:CDT
DTSTART:20240310T020000
TZOFFSETFROM:-0600
TZOFFSETTO:-0500
RDATE:20250309T020000
END:DAYLIGHT
END:VTIMEZONE
BEGIN:VEVENT
UID:85d7b177-5131-4bb0-8ca7-ab5aa1c7b9e8
DTSTAMP:20260422T211556Z
DESCRIPTION:SOCIAL - Birthday Social\n@11:00AM\n\nEXERCISE- BONA Fitness\nS
 uper Senior Fitness\n\n@1:00PM\n\n*Resident only event*
DTSTART;TZID=America/Chicago:20240905T110000
DTEND;TZID=America/Chicago:20240905T140000
LOCATION:1830 Hollyoak Dr\, Houston\, TX 77084 US
SUMMARY:Hollyoak: Exercise & Social
END:VEVENT
END:VCALENDAR
