BEGIN:VCALENDAR
VERSION:2.0
PRODID:-//empowercdc.org//NONSGML kigkonsult.se iCalcreator 2.30.10//
CALSCALE:GREGORIAN
METHOD:PUBLISH
UID:37fca735-6731-4389-a6a1-6b8ffa6a8e08
X-WR-CALDESC:ARTS AND CRAFTS\nDYI BUTTERFLY SOLAR LIGHTS\n\n@11AM
X-WR-RELCALID:b91be13a20a3996c5727ce9282d04e36
X-WR-TIMEZONE:America/Chicago
BEGIN:VTIMEZONE
TZID:America/Chicago
BEGIN:STANDARD
TZNAME:CST
DTSTART:20231105T020000
TZOFFSETFROM:-0500
TZOFFSETTO:-0600
RDATE:20241103T020000
RDATE:20251102T020000
END:STANDARD
BEGIN:DAYLIGHT
TZNAME:CDT
DTSTART:20240310T020000
TZOFFSETFROM:-0600
TZOFFSETTO:-0500
RDATE:20250309T020000
END:DAYLIGHT
END:VTIMEZONE
BEGIN:VEVENT
UID:25064002-4007-45f5-a8ba-def5bab13b79
DTSTAMP:20260422T211843Z
DESCRIPTION:ARTS AND CRAFTS\nDYI BUTTERFLY SOLAR LIGHTS\n\n@11AM
DTSTART;TZID=America/Chicago:20240903T110000
DTEND;TZID=America/Chicago:20240903T120000
LOCATION:15707 Kuykendahl Ct\, Conroe\, TX 77384 US
SUMMARY:Kuykendalh Court: Arts & Crafts
END:VEVENT
END:VCALENDAR
