BEGIN:VCALENDAR
VERSION:2.0
PRODID:-//empowercdc.org//NONSGML kigkonsult.se iCalcreator 2.30.10//
CALSCALE:GREGORIAN
METHOD:PUBLISH
UID:c22ed2ef-dd62-43e7-906f-538418028e27
X-WR-CALDESC:HEALTH & NUTRITION-Empower\nSummer Fruit Salad\n@ 3:00PM\n\n*R
 esident only event*
X-WR-RELCALID:aa152c0a2884231cdc132175b6e25246
X-WR-TIMEZONE:America/Chicago
BEGIN:VTIMEZONE
TZID:America/Chicago
BEGIN:STANDARD
TZNAME:CST
DTSTART:20231105T020000
TZOFFSETFROM:-0500
TZOFFSETTO:-0600
RDATE:20241103T020000
RDATE:20251102T020000
END:STANDARD
BEGIN:DAYLIGHT
TZNAME:CDT
DTSTART:20240310T020000
TZOFFSETFROM:-0600
TZOFFSETTO:-0500
RDATE:20250309T020000
END:DAYLIGHT
END:VTIMEZONE
BEGIN:VEVENT
UID:98d9f443-83ae-4db2-aa00-bc2a20aa06ad
DTSTAMP:20260422T193744Z
DESCRIPTION:HEALTH & NUTRITION-Empower\nSummer Fruit Salad\n@ 3:00PM\n\n*Re
 sident only event*
DTSTART;TZID=America/Chicago:20240830T150000
DTEND;TZID=America/Chicago:20240830T160000
LOCATION:12353 Huffmeister Rd\, Cypress\, TX 77429 US
SUMMARY:The Meadows: Health & Nutrition
END:VEVENT
END:VCALENDAR
