BEGIN:VCALENDAR
VERSION:2.0
PRODID:-//empowercdc.org//NONSGML kigkonsult.se iCalcreator 2.30.10//
CALSCALE:GREGORIAN
METHOD:PUBLISH
UID:7714823d-8442-419e-8f8c-d68f1f20bbca
X-WR-CALDESC:ARTS AND CRAFTS\nDIY CANDLE MAKING\n@11AM\n\nEXERCISE\nDance w
 ith Me\n@12PM
X-WR-RELCALID:9c7991501335194a4fc2d76cfd8aee9c
X-WR-TIMEZONE:America/Chicago
BEGIN:VTIMEZONE
TZID:America/Chicago
BEGIN:STANDARD
TZNAME:CST
DTSTART:20231105T020000
TZOFFSETFROM:-0500
TZOFFSETTO:-0600
RDATE:20241103T020000
RDATE:20251102T020000
END:STANDARD
BEGIN:DAYLIGHT
TZNAME:CDT
DTSTART:20240310T020000
TZOFFSETFROM:-0600
TZOFFSETTO:-0500
RDATE:20250309T020000
END:DAYLIGHT
END:VTIMEZONE
BEGIN:VEVENT
UID:a58ee2ce-f896-468c-9952-a0b9c6249a22
DTSTAMP:20260422T193858Z
DESCRIPTION:ARTS AND CRAFTS\nDIY CANDLE MAKING\n@11AM\n\nEXERCISE\nDance wi
 th Me\n@12PM
DTSTART;TZID=America/Chicago:20240830T110000
DTEND;TZID=America/Chicago:20240830T130000
LOCATION:15707 Kuykendahl Ct\, Conroe\, TX 77384 US
SUMMARY:Kuykendalh Court: Exercise\, Arts & Crafts
END:VEVENT
END:VCALENDAR
