BEGIN:VCALENDAR
VERSION:2.0
PRODID:-//empowercdc.org//NONSGML kigkonsult.se iCalcreator 2.30.10//
CALSCALE:GREGORIAN
METHOD:PUBLISH
UID:53b8c250-cdc0-456b-98ca-c663fe111cac
X-WR-CALDESC:HEALTH & NUTRITION-Empower\nThree Ingredient\nBanana Bread @12
 :00PM\n*Registration Required*\n\n*Resident only event*
X-WR-RELCALID:86b6a9c57885d3f3f1563681f27929c9
X-WR-TIMEZONE:America/Chicago
BEGIN:VTIMEZONE
TZID:America/Chicago
BEGIN:STANDARD
TZNAME:CST
DTSTART:20231105T020000
TZOFFSETFROM:-0500
TZOFFSETTO:-0600
RDATE:20241103T020000
RDATE:20251102T020000
END:STANDARD
BEGIN:DAYLIGHT
TZNAME:CDT
DTSTART:20240310T020000
TZOFFSETFROM:-0600
TZOFFSETTO:-0500
RDATE:20250309T020000
END:DAYLIGHT
END:VTIMEZONE
BEGIN:VEVENT
UID:073e9db8-40da-42a5-9395-adbb2ae36284
DTSTAMP:20260422T193749Z
DESCRIPTION:HEALTH & NUTRITION-Empower\nThree Ingredient\nBanana Bread @12:
 00PM\n*Registration Required*\n\n*Resident only event*
DTSTART;TZID=America/Chicago:20240829T120000
DTEND;TZID=America/Chicago:20240829T130000
LOCATION:1830 Hollyoak Dr\, Houston\, TX 77084 US
SUMMARY:Hollyoak: Health & Nutrition
END:VEVENT
END:VCALENDAR
