BEGIN:VCALENDAR
VERSION:2.0
PRODID:-//empowercdc.org//NONSGML kigkonsult.se iCalcreator 2.30.10//
CALSCALE:GREGORIAN
METHOD:PUBLISH
UID:d289dbca-4068-4391-9e7c-77498b30fc0a
X-WR-CALDESC:ARTS AND CRAFTS\nPAINTING WITH A\nTWIST JEFFERY\nGOOD PEOPLE\n
 HELPING GOOD PEOPLE\n@11AM\n\n*Resident only event*
X-WR-RELCALID:11ea7fbf43f941c2b9803f06c855b9c9
X-WR-TIMEZONE:America/Chicago
BEGIN:VTIMEZONE
TZID:America/Chicago
BEGIN:STANDARD
TZNAME:CST
DTSTART:20231105T020000
TZOFFSETFROM:-0500
TZOFFSETTO:-0600
RDATE:20241103T020000
RDATE:20251102T020000
END:STANDARD
BEGIN:DAYLIGHT
TZNAME:CDT
DTSTART:20240310T020000
TZOFFSETFROM:-0600
TZOFFSETTO:-0500
RDATE:20250309T020000
END:DAYLIGHT
END:VTIMEZONE
BEGIN:VEVENT
UID:4d0acdcf-3ba5-4b89-a0cd-a93879ea86c1
DTSTAMP:20260422T193647Z
DESCRIPTION:ARTS AND CRAFTS\nPAINTING WITH A\nTWIST JEFFERY\nGOOD PEOPLE\nH
 ELPING GOOD PEOPLE\n@11AM\n\n*Resident only event*
DTSTART;TZID=America/Chicago:20240827T110000
DTEND;TZID=America/Chicago:20240827T120000
LOCATION:1717 FM359\, Richmond\, TX 77406 US
SUMMARY:Jones Creek: Arts & Crafts
END:VEVENT
END:VCALENDAR
