BEGIN:VCALENDAR
VERSION:2.0
PRODID:-//empowercdc.org//NONSGML kigkonsult.se iCalcreator 2.30.10//
CALSCALE:GREGORIAN
METHOD:PUBLISH
UID:7fc9c0ed-7eed-40b3-bcff-be5cd6be51b9
X-WR-CALDESC:EXERCISE - Empower\nChair Yoga\n@3:00PM\n\nARTS & CRAFTS-Empow
 er\nHomemade PlayDoh\n@4:00PM\n\n*Resident only event*
X-WR-RELCALID:001a35d5a00e969fe4b60edc01e7137a
X-WR-TIMEZONE:America/Chicago
BEGIN:VTIMEZONE
TZID:America/Chicago
BEGIN:STANDARD
TZNAME:CST
DTSTART:20231105T020000
TZOFFSETFROM:-0500
TZOFFSETTO:-0600
RDATE:20241103T020000
RDATE:20251102T020000
END:STANDARD
BEGIN:DAYLIGHT
TZNAME:CDT
DTSTART:20240310T020000
TZOFFSETFROM:-0600
TZOFFSETTO:-0500
RDATE:20250309T020000
END:DAYLIGHT
END:VTIMEZONE
BEGIN:VEVENT
UID:4026ec49-8920-40a5-a4a1-af34e2b04506
DTSTAMP:20260422T193305Z
DESCRIPTION:EXERCISE - Empower\nChair Yoga\n@3:00PM\n\nARTS & CRAFTS-Empowe
 r\nHomemade PlayDoh\n@4:00PM\n\n*Resident only event*
DTSTART;TZID=America/Chicago:20240826T150000
DTEND;TZID=America/Chicago:20240826T170000
LOCATION:12353 Huffmeister Rd\, Cypress\, TX 77429 US
SUMMARY:The Meadows: Exercise\, Arts & Crafts
END:VEVENT
END:VCALENDAR
