BEGIN:VCALENDAR
VERSION:2.0
PRODID:-//empowercdc.org//NONSGML kigkonsult.se iCalcreator 2.30.10//
CALSCALE:GREGORIAN
METHOD:PUBLISH
UID:3f9142ca-7d41-49c4-bf5f-d70b4f573eda
X-WR-CALDESC:ARTS AND CRAFTS\nCANDLE MAKING\n@1PM\n\n*Residents only event*
X-WR-RELCALID:433e2dd369109f580c3a68667bb5f088
X-WR-TIMEZONE:America/Chicago
BEGIN:VTIMEZONE
TZID:America/Chicago
BEGIN:STANDARD
TZNAME:CST
DTSTART:20231105T020000
TZOFFSETFROM:-0500
TZOFFSETTO:-0600
RDATE:20241103T020000
RDATE:20251102T020000
END:STANDARD
BEGIN:DAYLIGHT
TZNAME:CDT
DTSTART:20240310T020000
TZOFFSETFROM:-0600
TZOFFSETTO:-0500
RDATE:20250309T020000
END:DAYLIGHT
END:VTIMEZONE
BEGIN:VEVENT
UID:c5100e48-8309-4b94-ae8e-1a26fdffdff9
DTSTAMP:20260422T193618Z
DESCRIPTION:ARTS AND CRAFTS\nCANDLE MAKING\n@1PM\n\n*Residents only event*
DTSTART;TZID=America/Chicago:20240826T130000
DTEND;TZID=America/Chicago:20240826T140000
LOCATION:219 Flagship Bld\, Montgomery\, TX 77316 US
SUMMARY:The Heritage: Arts & Crafts
END:VEVENT
END:VCALENDAR
