BEGIN:VCALENDAR
VERSION:2.0
PRODID:-//empowercdc.org//NONSGML kigkonsult.se iCalcreator 2.30.10//
CALSCALE:GREGORIAN
METHOD:PUBLISH
UID:4d30683b-6948-45d8-ada6-c6ede66791d6
X-WR-CALDESC:SOCIAL\nAI BREAKFAST\nINTRO TO AI\n@11AM\n\nEXERCISE\nLine Dan
 ce\n@12PM
X-WR-RELCALID:94b6a1d5fc71b932f099f2dde97b5a61
X-WR-TIMEZONE:America/Chicago
BEGIN:VTIMEZONE
TZID:America/Chicago
BEGIN:STANDARD
TZNAME:CST
DTSTART:20231105T020000
TZOFFSETFROM:-0500
TZOFFSETTO:-0600
RDATE:20241103T020000
RDATE:20251102T020000
END:STANDARD
BEGIN:DAYLIGHT
TZNAME:CDT
DTSTART:20240310T020000
TZOFFSETFROM:-0600
TZOFFSETTO:-0500
RDATE:20250309T020000
END:DAYLIGHT
END:VTIMEZONE
BEGIN:VEVENT
UID:d1fdd304-faf5-4263-9edd-46f590d930d3
DTSTAMP:20260422T193806Z
DESCRIPTION:SOCIAL\nAI BREAKFAST\nINTRO TO AI\n@11AM\n\nEXERCISE\nLine Danc
 e\n@12PM
DTSTART;TZID=America/Chicago:20240823T110000
DTEND;TZID=America/Chicago:20240823T130000
LOCATION:15707 Kuykendahl Ct\, Conroe\, TX 77384 US
SUMMARY:Kuykendalh Court: Social\, Exercise
END:VEVENT
END:VCALENDAR
