BEGIN:VCALENDAR
VERSION:2.0
PRODID:-//empowercdc.org//NONSGML kigkonsult.se iCalcreator 2.30.10//
CALSCALE:GREGORIAN
METHOD:PUBLISH
UID:f4f8a069-006c-47c6-af48-78df22e9a12a
X-WR-CALDESC:EXERCISE\nDANCE WITH ME\n@3:00PM\n\nSOCIAL\nBACK TO SCHOOL PIZ
 ZA PARTY\n@3:30PM\n\n*Resident only event*
X-WR-RELCALID:f8247549a272acdd8e1c4b282d9a936c
X-WR-TIMEZONE:America/Chicago
BEGIN:VTIMEZONE
TZID:America/Chicago
BEGIN:STANDARD
TZNAME:CST
DTSTART:20231105T020000
TZOFFSETFROM:-0500
TZOFFSETTO:-0600
RDATE:20241103T020000
RDATE:20251102T020000
END:STANDARD
BEGIN:DAYLIGHT
TZNAME:CDT
DTSTART:20240310T020000
TZOFFSETFROM:-0600
TZOFFSETTO:-0500
RDATE:20250309T020000
END:DAYLIGHT
END:VTIMEZONE
BEGIN:VEVENT
UID:f8e11d14-ff69-4dd6-a975-7f6438eebc9b
DTSTAMP:20260422T193222Z
DESCRIPTION:EXERCISE\nDANCE WITH ME\n@3:00PM\n\nSOCIAL\nBACK TO SCHOOL PIZZ
 A PARTY\n@3:30PM\n\n*Resident only event*
DTSTART;TZID=America/Chicago:20240822T150000
DTEND;TZID=America/Chicago:20240822T163000
LOCATION:1620 Spencer Hwy\, South Houston\, TX 77587 US
SUMMARY:Windsor Gardens: Exercise\, Social
END:VEVENT
END:VCALENDAR
