BEGIN:VCALENDAR
VERSION:2.0
PRODID:-//empowercdc.org//NONSGML kigkonsult.se iCalcreator 2.30.10//
CALSCALE:GREGORIAN
METHOD:PUBLISH
UID:4ff14fd2-f2c5-4dab-b120-4019dc9f26c4
X-WR-CALDESC:SOCIAL- Suvida\nBingo Bonanza\n@ 12:00PM\n\n*Resident only eve
 nt*
X-WR-RELCALID:b0e0fca13d7548dbbc2a447dda03f092
X-WR-TIMEZONE:America/Chicago
BEGIN:VTIMEZONE
TZID:America/Chicago
BEGIN:STANDARD
TZNAME:CST
DTSTART:20231105T020000
TZOFFSETFROM:-0500
TZOFFSETTO:-0600
RDATE:20241103T020000
RDATE:20251102T020000
END:STANDARD
BEGIN:DAYLIGHT
TZNAME:CDT
DTSTART:20240310T020000
TZOFFSETFROM:-0600
TZOFFSETTO:-0500
RDATE:20250309T020000
END:DAYLIGHT
END:VTIMEZONE
BEGIN:VEVENT
UID:9cc2b513-13db-4347-b2b0-d06fe1d04932
DTSTAMP:20260422T193339Z
DESCRIPTION:SOCIAL- Suvida\nBingo Bonanza\n@ 12:00PM\n\n*Resident only even
 t*
DTSTART;TZID=America/Chicago:20240822T120000
DTEND;TZID=America/Chicago:20240822T140000
LOCATION:1830 Hollyoak Dr\, Houston\, TX 77084 US
SUMMARY:Hollyoak: Social
END:VEVENT
END:VCALENDAR
