BEGIN:VCALENDAR
VERSION:2.0
PRODID:-//empowercdc.org//NONSGML kigkonsult.se iCalcreator 2.30.10//
CALSCALE:GREGORIAN
METHOD:PUBLISH
UID:acf77b18-8d2d-482d-89d6-499995782e18
X-WR-CALDESC:FOOD PANTRY\n@12PM
X-WR-RELCALID:59384fcab900452f193dcb344039be74
X-WR-TIMEZONE:America/Chicago
BEGIN:VTIMEZONE
TZID:America/Chicago
BEGIN:STANDARD
TZNAME:CST
DTSTART:20231105T020000
TZOFFSETFROM:-0500
TZOFFSETTO:-0600
RDATE:20241103T020000
RDATE:20251102T020000
END:STANDARD
BEGIN:DAYLIGHT
TZNAME:CDT
DTSTART:20240310T020000
TZOFFSETFROM:-0600
TZOFFSETTO:-0500
RDATE:20250309T020000
END:DAYLIGHT
END:VTIMEZONE
BEGIN:VEVENT
UID:67877cbd-9c6f-4466-bd7d-10c7aecd1cff
DTSTAMP:20260422T193744Z
DESCRIPTION:FOOD PANTRY\n@12PM
DTSTART;TZID=America/Chicago:20240820T120000
DTEND;TZID=America/Chicago:20240820T130000
LOCATION:325 Flagship Blvd\, Montgomery\, TX 77316 US
SUMMARY:The Heritage: Food Pantry
END:VEVENT
END:VCALENDAR
