BEGIN:VCALENDAR
VERSION:2.0
PRODID:-//empowercdc.org//NONSGML kigkonsult.se iCalcreator 2.30.10//
CALSCALE:GREGORIAN
METHOD:PUBLISH
UID:195d698f-af82-4831-8438-9092f1661433
X-WR-CALDESC:EXERCISE - Unlimited Visions\nChair Yoga\nBack-to-School\nFire
 side Chat\n\n@ 3:00PM\n\n*Resident only event*
X-WR-RELCALID:5b6db0c0fcd898cf614a0ed5ca90ca86
X-WR-TIMEZONE:America/Chicago
BEGIN:VTIMEZONE
TZID:America/Chicago
BEGIN:STANDARD
TZNAME:CST
DTSTART:20231105T020000
TZOFFSETFROM:-0500
TZOFFSETTO:-0600
RDATE:20241103T020000
RDATE:20251102T020000
END:STANDARD
BEGIN:DAYLIGHT
TZNAME:CDT
DTSTART:20240310T020000
TZOFFSETFROM:-0600
TZOFFSETTO:-0500
RDATE:20250309T020000
END:DAYLIGHT
END:VTIMEZONE
BEGIN:VEVENT
UID:29e726de-6971-465b-9d5c-85b14d86e272
DTSTAMP:20260422T193508Z
DESCRIPTION:EXERCISE - Unlimited Visions\nChair Yoga\nBack-to-School\nFires
 ide Chat\n\n@ 3:00PM\n\n*Resident only event*
DTSTART;TZID=America/Chicago:20240819T150000
DTEND;TZID=America/Chicago:20240819T160000
LOCATION:12353 Huffmeister Rd\, Cypress\, TX 77429 US
SUMMARY:The Meadows: Exercise (Unlimited Visions)
END:VEVENT
END:VCALENDAR
