BEGIN:VCALENDAR
VERSION:2.0
PRODID:-//empowercdc.org//NONSGML kigkonsult.se iCalcreator 2.30.10//
CALSCALE:GREGORIAN
METHOD:PUBLISH
UID:47ad9c17-33e7-4ad5-9f3d-747fa8f7514c
X-WR-CALDESC:SOCIAL\nBREAKFAST WITH AI\nINTRO AI\n@1PM\n\n*Residents only e
 vent*
X-WR-RELCALID:49ea776427d4fee82f78c3bd0c26840b
X-WR-TIMEZONE:America/Chicago
BEGIN:VTIMEZONE
TZID:America/Chicago
BEGIN:STANDARD
TZNAME:CST
DTSTART:20231105T020000
TZOFFSETFROM:-0500
TZOFFSETTO:-0600
RDATE:20241103T020000
RDATE:20251102T020000
END:STANDARD
BEGIN:DAYLIGHT
TZNAME:CDT
DTSTART:20240310T020000
TZOFFSETFROM:-0600
TZOFFSETTO:-0500
RDATE:20250309T020000
END:DAYLIGHT
END:VTIMEZONE
BEGIN:VEVENT
UID:710ee79f-2db2-47a2-b8e8-26f9b3cfdc5c
DTSTAMP:20260422T193442Z
DESCRIPTION:SOCIAL\nBREAKFAST WITH AI\nINTRO AI\n@1PM\n\n*Residents only ev
 ent*
DTSTART;TZID=America/Chicago:20240819T130000
DTEND;TZID=America/Chicago:20240819T140000
LOCATION:219 Flagship Bld\, Montgomery\, TX 77316 US
SUMMARY:The Heritage: Social
END:VEVENT
END:VCALENDAR
