BEGIN:VCALENDAR
VERSION:2.0
PRODID:-//empowercdc.org//NONSGML kigkonsult.se iCalcreator 2.30.10//
CALSCALE:GREGORIAN
METHOD:PUBLISH
UID:a6a55fee-e075-48d6-bb42-6c567d643e9f
X-WR-CALDESC:SOCIAL\nAI BREAKFAST: INTRO TO CHATTING\nWITH AI\n@11AM
X-WR-RELCALID:3cc457affbc01190cb5a74d180f32f7f
X-WR-TIMEZONE:America/Chicago
BEGIN:VTIMEZONE
TZID:America/Chicago
BEGIN:STANDARD
TZNAME:CST
DTSTART:20231105T020000
TZOFFSETFROM:-0500
TZOFFSETTO:-0600
RDATE:20241103T020000
RDATE:20251102T020000
END:STANDARD
BEGIN:DAYLIGHT
TZNAME:CDT
DTSTART:20240310T020000
TZOFFSETFROM:-0600
TZOFFSETTO:-0500
RDATE:20250309T020000
END:DAYLIGHT
END:VTIMEZONE
BEGIN:VEVENT
UID:089256f1-71e6-42b1-83d1-52c051d1f65d
DTSTAMP:20260422T193806Z
DESCRIPTION:SOCIAL\nAI BREAKFAST: INTRO TO CHATTING\nWITH AI\n@11AM
DTSTART;TZID=America/Chicago:20240819T110000
DTEND;TZID=America/Chicago:20240819T120000
LOCATION:219 Flagship Blvd\, Montgomery\, TX 77316 US
SUMMARY:The Heritage 55+: Intro to Chatting With AI
END:VEVENT
END:VCALENDAR
