BEGIN:VCALENDAR
VERSION:2.0
PRODID:-//empowercdc.org//NONSGML kigkonsult.se iCalcreator 2.30.10//
CALSCALE:GREGORIAN
METHOD:PUBLISH
UID:257f6209-caa7-45f7-aefb-99dc0e4914d8
X-WR-CALDESC:EXERCISE\nLINE DANCE\n@11AM\n\nARTS AND CRAFTS\nPainting with 
 a Twist\nJEFF TEXAN BENEFIT\n@12PM
X-WR-RELCALID:3d5e92d308c3d91475f8a51e7e4737fd
X-WR-TIMEZONE:America/Chicago
BEGIN:VTIMEZONE
TZID:America/Chicago
BEGIN:STANDARD
TZNAME:CST
DTSTART:20231105T020000
TZOFFSETFROM:-0500
TZOFFSETTO:-0600
RDATE:20241103T020000
RDATE:20251102T020000
END:STANDARD
BEGIN:DAYLIGHT
TZNAME:CDT
DTSTART:20240310T020000
TZOFFSETFROM:-0600
TZOFFSETTO:-0500
RDATE:20250309T020000
END:DAYLIGHT
END:VTIMEZONE
BEGIN:VEVENT
UID:f8501460-cc49-42df-969b-9f030c349164
DTSTAMP:20260422T193908Z
DESCRIPTION:EXERCISE\nLINE DANCE\n@11AM\n\nARTS AND CRAFTS\nPainting with a
  Twist\nJEFF TEXAN BENEFIT\n@12PM
DTSTART;TZID=America/Chicago:20240816T110000
DTEND;TZID=America/Chicago:20240816T130000
LOCATION:15707 Kuykendahl Ct\, Conroe\, TX 77384 US
SUMMARY:Kuykendalh Court: Exercise\, Arts & Crafts
END:VEVENT
END:VCALENDAR
