BEGIN:VCALENDAR
VERSION:2.0
PRODID:-//empowercdc.org//NONSGML kigkonsult.se iCalcreator 2.30.10//
CALSCALE:GREGORIAN
METHOD:PUBLISH
UID:753072cf-6c24-42c4-97ca-e815510cf4c9
X-WR-CALDESC:ARTS & CRAFTS-GPHGP\nPaint Party\n“No experience needed”\n@10:
 00AM\n\n*Resident only event*
X-WR-RELCALID:5abedc78dd6d53784f3a6b5e036c5a03
X-WR-TIMEZONE:America/Chicago
BEGIN:VTIMEZONE
TZID:America/Chicago
BEGIN:STANDARD
TZNAME:CST
DTSTART:20231105T020000
TZOFFSETFROM:-0500
TZOFFSETTO:-0600
RDATE:20241103T020000
RDATE:20251102T020000
END:STANDARD
BEGIN:DAYLIGHT
TZNAME:CDT
DTSTART:20240310T020000
TZOFFSETFROM:-0600
TZOFFSETTO:-0500
RDATE:20250309T020000
END:DAYLIGHT
END:VTIMEZONE
BEGIN:VEVENT
UID:7fa12b11-174c-4f49-abda-bdf90bbe1b27
DTSTAMP:20260422T193448Z
DESCRIPTION:ARTS & CRAFTS-GPHGP\nPaint Party\n“No experience needed”\n@10:0
 0AM\n\n*Resident only event*
DTSTART;TZID=America/Chicago:20240815T100000
DTEND;TZID=America/Chicago:20240815T110000
LOCATION:1830 Hollyoak Dr\, Houston\, TX 77084 US
SUMMARY:Hollyoak: Arts & Crafts
END:VEVENT
END:VCALENDAR
