BEGIN:VCALENDAR
VERSION:2.0
PRODID:-//empowercdc.org//NONSGML kigkonsult.se iCalcreator 2.30.10//
CALSCALE:GREGORIAN
METHOD:PUBLISH
UID:9ae9377a-47c2-466b-a4e6-5816c1712823
X-WR-CALDESC:FOOD PANTRY\n@1PM\n\n*Resident only event*
X-WR-RELCALID:7529747f328570b1e7388821f7843565
X-WR-TIMEZONE:America/Chicago
BEGIN:VTIMEZONE
TZID:America/Chicago
BEGIN:STANDARD
TZNAME:CST
DTSTART:20231105T020000
TZOFFSETFROM:-0500
TZOFFSETTO:-0600
RDATE:20241103T020000
RDATE:20251102T020000
END:STANDARD
BEGIN:DAYLIGHT
TZNAME:CDT
DTSTART:20240310T020000
TZOFFSETFROM:-0600
TZOFFSETTO:-0500
RDATE:20250309T020000
END:DAYLIGHT
END:VTIMEZONE
BEGIN:VEVENT
UID:cac3ae26-8915-4507-8903-5ae514e07a21
DTSTAMP:20260422T193623Z
DESCRIPTION:FOOD PANTRY\n@1PM\n\n*Resident only event*
DTSTART;TZID=America/Chicago:20240813T130000
DTEND;TZID=America/Chicago:20240813T140000
LOCATION:1620 Spencer Hwy\, South Houston\, TX 77587 US
SUMMARY:Windsor Gardens: Food Pantry
END:VEVENT
END:VCALENDAR
