BEGIN:VCALENDAR
VERSION:2.0
PRODID:-//empowercdc.org//NONSGML kigkonsult.se iCalcreator 2.30.10//
CALSCALE:GREGORIAN
METHOD:PUBLISH
UID:fa03495c-89d8-4f25-ab86-b0512fc4f413
X-WR-CALDESC:EXERCISE- Empower\nTai Chi\n@10:00AM\n\n*Resident only event*
X-WR-RELCALID:6dcdad30f8dd3ce97b0a51816eb474fb
X-WR-TIMEZONE:America/Chicago
BEGIN:VTIMEZONE
TZID:America/Chicago
BEGIN:STANDARD
TZNAME:CST
DTSTART:20231105T020000
TZOFFSETFROM:-0500
TZOFFSETTO:-0600
RDATE:20241103T020000
RDATE:20251102T020000
END:STANDARD
BEGIN:DAYLIGHT
TZNAME:CDT
DTSTART:20240310T020000
TZOFFSETFROM:-0600
TZOFFSETTO:-0500
RDATE:20250309T020000
END:DAYLIGHT
END:VTIMEZONE
BEGIN:VEVENT
UID:6829fa73-9b86-4b37-b2b2-dc47a9e06890
DTSTAMP:20260422T192936Z
DESCRIPTION:EXERCISE- Empower\nTai Chi\n@10:00AM\n\n*Resident only event*
DTSTART;TZID=America/Chicago:20240813T100000
DTEND;TZID=America/Chicago:20240813T110000
LOCATION:1830 Hollyoak Dr\, Houston\, TX 77084 US
SUMMARY:Hollyoak: Exercise
END:VEVENT
END:VCALENDAR
