BEGIN:VCALENDAR
VERSION:2.0
PRODID:-//empowercdc.org//NONSGML kigkonsult.se iCalcreator 2.30.10//
CALSCALE:GREGORIAN
METHOD:PUBLISH
UID:3d79da89-8b39-493f-94e8-fc88e0b3db51
X-WR-CALDESC:SOCIAL- Autism Speaks\nLunch-n-Learn\n@1:30PM\n\n*Resident onl
 y event*
X-WR-RELCALID:4095cd73d71dd48a37072b8078d2e184
X-WR-TIMEZONE:America/Chicago
BEGIN:VTIMEZONE
TZID:America/Chicago
BEGIN:STANDARD
TZNAME:CST
DTSTART:20231105T020000
TZOFFSETFROM:-0500
TZOFFSETTO:-0600
RDATE:20241103T020000
RDATE:20251102T020000
END:STANDARD
BEGIN:DAYLIGHT
TZNAME:CDT
DTSTART:20240310T020000
TZOFFSETFROM:-0600
TZOFFSETTO:-0500
RDATE:20250309T020000
END:DAYLIGHT
END:VTIMEZONE
BEGIN:VEVENT
UID:abf1385e-85e5-406c-82aa-b80f5d950874
DTSTAMP:20260422T193201Z
DESCRIPTION:SOCIAL- Autism Speaks\nLunch-n-Learn\n@1:30PM\n\n*Resident only
  event*
DTSTART;TZID=America/Chicago:20240813T133000
DTEND;TZID=America/Chicago:20240813T153000
LOCATION:6725 Brittmoore Road\, Houston\, TX 77041 US
SUMMARY:Brittmoore: Social Event
END:VEVENT
END:VCALENDAR
