BEGIN:VCALENDAR
VERSION:2.0
PRODID:-//empowercdc.org//NONSGML kigkonsult.se iCalcreator 2.30.10//
CALSCALE:GREGORIAN
METHOD:PUBLISH
UID:bd8efed2-d1e0-49df-8928-fdabe7829c3c
X-WR-CALDESC:Chair Yoga Exercise Class\n\n*Resident only event*
X-WR-RELCALID:491787d1c81a3e8ae37c6e71b1c25f43
X-WR-TIMEZONE:America/Chicago
BEGIN:VTIMEZONE
TZID:America/Chicago
BEGIN:STANDARD
TZNAME:CST
DTSTART:20231105T020000
TZOFFSETFROM:-0500
TZOFFSETTO:-0600
RDATE:20241103T020000
RDATE:20251102T020000
END:STANDARD
BEGIN:DAYLIGHT
TZNAME:CDT
DTSTART:20240310T020000
TZOFFSETFROM:-0600
TZOFFSETTO:-0500
RDATE:20250309T020000
END:DAYLIGHT
END:VTIMEZONE
BEGIN:VEVENT
UID:12aa1015-5d34-45bc-8837-8549e98c0079
DTSTAMP:20260422T192935Z
DESCRIPTION:Chair Yoga Exercise Class\n\n*Resident only event*
DTSTART;TZID=America/Chicago:20240812T133000
DTEND;TZID=America/Chicago:20240812T143000
LOCATION:12353 Huffmeister Rd\, Cypress\, TX 77429 US
SUMMARY:The Meadows: Exercise
END:VEVENT
END:VCALENDAR
