BEGIN:VCALENDAR
VERSION:2.0
PRODID:-//empowercdc.org//NONSGML kigkonsult.se iCalcreator 2.30.10//
CALSCALE:GREGORIAN
METHOD:PUBLISH
UID:ccce7645-9b74-4210-b22b-cc73233aa45e
X-WR-CALDESC:ARTS AND CRAFTS\nPAINTING WITH A TWIST\nWITH JEREMY\n(GOOD PEO
 PLE HELPING\nPEOPLE)\n@11AM\n\n*Residents only event*
X-WR-RELCALID:ee10a86a8aa344ed28d989926493e9f6
X-WR-TIMEZONE:America/Chicago
BEGIN:VTIMEZONE
TZID:America/Chicago
BEGIN:STANDARD
TZNAME:CST
DTSTART:20231105T020000
TZOFFSETFROM:-0500
TZOFFSETTO:-0600
RDATE:20241103T020000
RDATE:20251102T020000
END:STANDARD
BEGIN:DAYLIGHT
TZNAME:CDT
DTSTART:20240310T020000
TZOFFSETFROM:-0600
TZOFFSETTO:-0500
RDATE:20250309T020000
END:DAYLIGHT
END:VTIMEZONE
BEGIN:VEVENT
UID:2229d051-1fbb-4389-84bc-c746a093015c
DTSTAMP:20260422T193508Z
DESCRIPTION:ARTS AND CRAFTS\nPAINTING WITH A TWIST\nWITH JEREMY\n(GOOD PEOP
 LE HELPING\nPEOPLE)\n@11AM\n\n*Residents only event*
DTSTART;TZID=America/Chicago:20240812T110000
DTEND;TZID=America/Chicago:20240812T120000
LOCATION:219 Flagship Bld\, Montgomery\, TX 77316 US
SUMMARY:The Heritage: Arts & Crafts
END:VEVENT
END:VCALENDAR
