BEGIN:VCALENDAR
VERSION:2.0
PRODID:-//empowercdc.org//NONSGML kigkonsult.se iCalcreator 2.30.10//
CALSCALE:GREGORIAN
METHOD:PUBLISH
UID:390cc467-9b72-4382-b566-3aefc6d5e2a6
X-WR-CALDESC:ARTS AND CRAFTS\nPAINTING ON CANVAS WITH JEFF\nTEXANS BENEFITS
 \n@11AM
X-WR-RELCALID:ff56690362cf8b85b9fb5786f914c98f
X-WR-TIMEZONE:America/Chicago
BEGIN:VTIMEZONE
TZID:America/Chicago
BEGIN:STANDARD
TZNAME:CST
DTSTART:20231105T020000
TZOFFSETFROM:-0500
TZOFFSETTO:-0600
RDATE:20241103T020000
RDATE:20251102T020000
END:STANDARD
BEGIN:DAYLIGHT
TZNAME:CDT
DTSTART:20240310T020000
TZOFFSETFROM:-0600
TZOFFSETTO:-0500
RDATE:20250309T020000
END:DAYLIGHT
END:VTIMEZONE
BEGIN:VEVENT
UID:2bb1f9ac-152a-4689-a305-cbf74159d764
DTSTAMP:20260422T193525Z
DESCRIPTION:ARTS AND CRAFTS\nPAINTING ON CANVAS WITH JEFF\nTEXANS BENEFITS
 \n@11AM
DTSTART;TZID=America/Chicago:20240812T110000
DTEND;TZID=America/Chicago:20240812T120000
LOCATION:219 Flagship Blvd\, Montgomery\, TX 77316 US
SUMMARY:The Heritage 55+: Arts & Craft
END:VEVENT
END:VCALENDAR
