BEGIN:VCALENDAR
VERSION:2.0
PRODID:-//empowercdc.org//NONSGML kigkonsult.se iCalcreator 2.30.10//
CALSCALE:GREGORIAN
METHOD:PUBLISH
UID:d672dbc4-fcac-499f-8564-a36fe25a383c
X-WR-CALDESC:Birthday Social Event\n@1:30PM\n\n*Resident only event*
X-WR-RELCALID:50f2b95a146e9f74190379f493741e36
X-WR-TIMEZONE:America/Chicago
BEGIN:VTIMEZONE
TZID:America/Chicago
BEGIN:STANDARD
TZNAME:CST
DTSTART:20231105T020000
TZOFFSETFROM:-0500
TZOFFSETTO:-0600
RDATE:20241103T020000
RDATE:20251102T020000
END:STANDARD
BEGIN:DAYLIGHT
TZNAME:CDT
DTSTART:20240310T020000
TZOFFSETFROM:-0600
TZOFFSETTO:-0500
RDATE:20250309T020000
END:DAYLIGHT
END:VTIMEZONE
BEGIN:VEVENT
UID:bb86c182-3585-43de-b698-ae5bac14b414
DTSTAMP:20260422T193324Z
DESCRIPTION:Birthday Social Event\n@1:30PM\n\n*Resident only event*
DTSTART;TZID=America/Chicago:20240809T133000
DTEND;TZID=America/Chicago:20240809T153000
LOCATION:12353 Huffmeister Rd\, Cypress\, TX 77429 US
SUMMARY:The Meadows: Social Event
END:VEVENT
END:VCALENDAR
