BEGIN:VCALENDAR
VERSION:2.0
PRODID:-//empowercdc.org//NONSGML kigkonsult.se iCalcreator 2.30.10//
CALSCALE:GREGORIAN
METHOD:PUBLISH
UID:355e40a0-7a7e-47a0-a181-251ccd3d45d9
X-WR-CALDESC:EXERCISE- Empower\nChair Yoga\n@1:30PM\n\nCHARACTER BUILDING\n
 Empower\nImpromptu Speaking\n@2:00PM\n
X-WR-RELCALID:c7305e1a8e10d74ea5dd8c3c7430b1f4
X-WR-TIMEZONE:America/Chicago
BEGIN:VTIMEZONE
TZID:America/Chicago
BEGIN:STANDARD
TZNAME:CST
DTSTART:20231105T020000
TZOFFSETFROM:-0500
TZOFFSETTO:-0600
RDATE:20241103T020000
RDATE:20251102T020000
END:STANDARD
BEGIN:DAYLIGHT
TZNAME:CDT
DTSTART:20240310T020000
TZOFFSETFROM:-0600
TZOFFSETTO:-0500
RDATE:20250309T020000
END:DAYLIGHT
END:VTIMEZONE
BEGIN:VEVENT
UID:1b8ceb39-998d-4b1b-80fe-4c9264fa1006
DTSTAMP:20260422T193212Z
DESCRIPTION:EXERCISE- Empower\nChair Yoga\n@1:30PM\n\nCHARACTER BUILDING\nE
 mpower\nImpromptu Speaking\n@2:00PM\n
DTSTART;TZID=America/Chicago:20240805T133000
DTEND;TZID=America/Chicago:20240805T150000
LOCATION:12353 Huffmeister Rd\, Cypress\, TX 77429 US
SUMMARY:The Meadows: Social\, Exercise
END:VEVENT
END:VCALENDAR
