BEGIN:VCALENDAR
VERSION:2.0
PRODID:-//empowercdc.org//NONSGML kigkonsult.se iCalcreator 2.30.10//
CALSCALE:GREGORIAN
METHOD:PUBLISH
UID:0ba4b19d-2949-45ee-ae05-d6f7ccbcef4d
X-WR-CALDESC:Targeting youth entering in 7th grade or above\, these 60 minu
 te events discussed such things as: developing a college mindset\, time ma
 nagement\, SMART goals\, and career goals. We concluded our time by donati
 ng backpacks and school supplies.
X-WR-RELCALID:0489e4971bd21e84c1bcdb38d4d6e09a
X-WR-TIMEZONE:America/Chicago
BEGIN:VTIMEZONE
TZID:America/Chicago
BEGIN:STANDARD
TZNAME:CST
DTSTART:20231105T020000
TZOFFSETFROM:-0500
TZOFFSETTO:-0600
RDATE:20241103T020000
RDATE:20251102T020000
END:STANDARD
BEGIN:DAYLIGHT
TZNAME:CDT
DTSTART:20240310T020000
TZOFFSETFROM:-0600
TZOFFSETTO:-0500
RDATE:20250309T020000
END:DAYLIGHT
END:VTIMEZONE
BEGIN:VEVENT
UID:4bb01b03-0e48-4586-a345-9f4408a1f2b7
DTSTAMP:20260422T193201Z
DESCRIPTION:Targeting youth entering in 7th grade or above\, these 60 minut
 e events discussed such things as: developing a college mindset\, time man
 agement\, SMART goals\, and career goals. We concluded our time by donatin
 g backpacks and school supplies.
DTSTART;TZID=America/Chicago:20240801T133000
DTEND;TZID=America/Chicago:20240801T153000
LOCATION:4900 Providence Street\, Houston\, TX 77020 US
SUMMARY:Project Canvas: College 101 'Summer Workshop'
END:VEVENT
END:VCALENDAR
