BEGIN:VCALENDAR
VERSION:2.0
PRODID:-//empowercdc.org//NONSGML kigkonsult.se iCalcreator 2.30.10//
CALSCALE:GREGORIAN
METHOD:PUBLISH
UID:983bd67f-787e-4a9d-8fca-538a86bc06ee
X-WR-CALDESC:ARTS & CRAFTS\nCANVAS PAINTING\n@1:30PM\n\nEXERCISE\nDANCE WIT
 H ME\n@2:30PM\n\nEXERCISE\nDANCE WITH ME\n@3:30PM
X-WR-RELCALID:a5b8ab439160d36a41f7639d15f0beab
X-WR-TIMEZONE:America/Chicago
BEGIN:VTIMEZONE
TZID:America/Chicago
BEGIN:STANDARD
TZNAME:CST
DTSTART:20231105T020000
TZOFFSETFROM:-0500
TZOFFSETTO:-0600
RDATE:20241103T020000
RDATE:20251102T020000
END:STANDARD
BEGIN:DAYLIGHT
TZNAME:CDT
DTSTART:20240310T020000
TZOFFSETFROM:-0600
TZOFFSETTO:-0500
RDATE:20250309T020000
END:DAYLIGHT
END:VTIMEZONE
BEGIN:VEVENT
UID:a969a28a-dac1-42d1-97f2-7a1319343999
DTSTAMP:20260422T180540Z
DESCRIPTION:ARTS & CRAFTS\nCANVAS PAINTING\n@1:30PM\n\nEXERCISE\nDANCE WITH
  ME\n@2:30PM\n\nEXERCISE\nDANCE WITH ME\n@3:30PM
DTSTART;TZID=America/Chicago:20240731T133000
DTEND;TZID=America/Chicago:20240731T163000
LOCATION:15707 Kuykendahl Ct\, Conroe\, TX 77384 US
SUMMARY:Kuykendalh Court: Exercise\, Social\, Arts & Crafts
END:VEVENT
END:VCALENDAR
