BEGIN:VCALENDAR
VERSION:2.0
PRODID:-//empowercdc.org//NONSGML kigkonsult.se iCalcreator 2.30.10//
CALSCALE:GREGORIAN
METHOD:PUBLISH
UID:628415d4-48aa-42c7-b923-769c7a3cfbdd
X-WR-CALDESC:Back To School event\,\n\n*Residents only event*
X-WR-RELCALID:710a668a4f5ae31e89658eb4b022a276
X-WR-TIMEZONE:America/Chicago
BEGIN:VTIMEZONE
TZID:America/Chicago
BEGIN:STANDARD
TZNAME:CST
DTSTART:20231105T020000
TZOFFSETFROM:-0500
TZOFFSETTO:-0600
RDATE:20241103T020000
RDATE:20251102T020000
END:STANDARD
BEGIN:DAYLIGHT
TZNAME:CDT
DTSTART:20240310T020000
TZOFFSETFROM:-0600
TZOFFSETTO:-0500
RDATE:20250309T020000
END:DAYLIGHT
END:VTIMEZONE
BEGIN:VEVENT
UID:462488c8-41fc-4146-a610-789544bd02d4
DTSTAMP:20260422T180035Z
DESCRIPTION:Back To School event\,\n\n*Residents only event*
DTSTART;TZID=America/Chicago:20240730T130000
DTEND;TZID=America/Chicago:20240730T140000
LOCATION:219 Flagship Bld\, Montgomery\, TX 77316 US
SUMMARY:The Heritage: Back To School Event
END:VEVENT
END:VCALENDAR
