BEGIN:VCALENDAR
VERSION:2.0
PRODID:-//empowercdc.org//NONSGML kigkonsult.se iCalcreator 2.30.10//
CALSCALE:GREGORIAN
METHOD:PUBLISH
UID:b855d21e-d433-4767-8c2b-40c6ac0d3a98
X-WR-CALDESC:ARTS & CRAFTS\nCLAY POTS\nCHARACTER\n@10:00AM\n\nGAME DAY\nDOM
 INOES\n@11:00AM
X-WR-RELCALID:c46a1d0ee7bee8451959562c53dbfe3b
X-WR-TIMEZONE:America/Chicago
BEGIN:VTIMEZONE
TZID:America/Chicago
BEGIN:STANDARD
TZNAME:CST
DTSTART:20231105T020000
TZOFFSETFROM:-0500
TZOFFSETTO:-0600
RDATE:20241103T020000
RDATE:20251102T020000
END:STANDARD
BEGIN:DAYLIGHT
TZNAME:CDT
DTSTART:20240310T020000
TZOFFSETFROM:-0600
TZOFFSETTO:-0500
RDATE:20250309T020000
END:DAYLIGHT
END:VTIMEZONE
BEGIN:VEVENT
UID:a8e4289d-91c4-4e09-804c-12da94d2c6be
DTSTAMP:20260422T180311Z
DESCRIPTION:ARTS & CRAFTS\nCLAY POTS\nCHARACTER\n@10:00AM\n\nGAME DAY\nDOMI
 NOES\n@11:00AM
DTSTART;TZID=America/Chicago:20240730T100000
DTEND;TZID=America/Chicago:20240730T120000
LOCATION:219 Flagship Blvd\, Montgomery\, TX 77316 US
SUMMARY:The Heritage 55+: Game Day\, Arts & Crafts
END:VEVENT
END:VCALENDAR
