BEGIN:VCALENDAR
VERSION:2.0
PRODID:-//empowercdc.org//NONSGML kigkonsult.se iCalcreator 2.30.10//
CALSCALE:GREGORIAN
METHOD:PUBLISH
UID:e3561cf0-8c09-4c3d-84be-c9ceef2bc21a
X-WR-CALDESC:Residents will be working on various art activities.\n\n*Resid
 ent only event*
X-WR-RELCALID:67448107317a6d9953204f8f1c71023e
X-WR-TIMEZONE:America/Chicago
BEGIN:VTIMEZONE
TZID:America/Chicago
BEGIN:STANDARD
TZNAME:CST
DTSTART:20231105T020000
TZOFFSETFROM:-0500
TZOFFSETTO:-0600
RDATE:20241103T020000
RDATE:20251102T020000
END:STANDARD
BEGIN:DAYLIGHT
TZNAME:CDT
DTSTART:20240310T020000
TZOFFSETFROM:-0600
TZOFFSETTO:-0500
RDATE:20250309T020000
END:DAYLIGHT
END:VTIMEZONE
BEGIN:VEVENT
UID:57912840-5506-45fb-a138-3e9ce7273abb
DTSTAMP:20260421T231917Z
DESCRIPTION:Residents will be working on various art activities.\n\n*Reside
 nt only event*
DTSTART;TZID=America/Chicago:20240730T140000
DTEND;TZID=America/Chicago:20240730T150000
LOCATION:6725 Brittmoore Road\, Houston\, TX 77041 US
SUMMARY:Brittmoore: Arts & Crafts
END:VEVENT
END:VCALENDAR
