BEGIN:VCALENDAR
VERSION:2.0
PRODID:-//empowercdc.org//NONSGML kigkonsult.se iCalcreator 2.30.10//
CALSCALE:GREGORIAN
METHOD:PUBLISH
UID:a86b902d-5bcf-4498-b7de-25d1731e9239
X-WR-CALDESC:Back to School social event.\n\n*Resident only event*
X-WR-RELCALID:d73d045d66fca9cdf2e264fb1bfb86dd
X-WR-TIMEZONE:America/Chicago
BEGIN:VTIMEZONE
TZID:America/Chicago
BEGIN:STANDARD
TZNAME:CST
DTSTART:20231105T020000
TZOFFSETFROM:-0500
TZOFFSETTO:-0600
RDATE:20241103T020000
RDATE:20251102T020000
END:STANDARD
BEGIN:DAYLIGHT
TZNAME:CDT
DTSTART:20240310T020000
TZOFFSETFROM:-0600
TZOFFSETTO:-0500
RDATE:20250309T020000
END:DAYLIGHT
END:VTIMEZONE
BEGIN:VEVENT
UID:39981ba2-f483-4cb4-9eb2-a3cced0aa4ea
DTSTAMP:20260422T175742Z
DESCRIPTION:Back to School social event.\n\n*Resident only event*
DTSTART;TZID=America/Chicago:20240729T140000
DTEND;TZID=America/Chicago:20240729T150000
LOCATION:12353 Huffmeister Rd\, Cypress\, TX 77429 US
SUMMARY:The Meadows: Social
END:VEVENT
END:VCALENDAR
