BEGIN:VCALENDAR
VERSION:2.0
PRODID:-//empowercdc.org//NONSGML kigkonsult.se iCalcreator 2.30.10//
CALSCALE:GREGORIAN
METHOD:PUBLISH
UID:7343782e-e734-4ed6-834c-22e68d4b0465
X-WR-CALDESC:ARTS & CRAFTS\nCLAY CHARACTER POTS\n@10:00AM\n\nARTS & CRAFTS
 \nCANVAS PAINTING\n@11:00AM\nEXERCISE\nFITNESS BINGO\n@12:00PM\n\nEXERCISE
 \nDANCE WITH ME\n@1:00PM\n\n*Resident only event*
X-WR-RELCALID:58cf9452a3c5f2738af4d2743f834bee
X-WR-TIMEZONE:America/Chicago
BEGIN:VTIMEZONE
TZID:America/Chicago
BEGIN:STANDARD
TZNAME:CST
DTSTART:20231105T020000
TZOFFSETFROM:-0500
TZOFFSETTO:-0600
RDATE:20241103T020000
RDATE:20251102T020000
END:STANDARD
BEGIN:DAYLIGHT
TZNAME:CDT
DTSTART:20240310T020000
TZOFFSETFROM:-0600
TZOFFSETTO:-0500
RDATE:20250309T020000
END:DAYLIGHT
END:VTIMEZONE
BEGIN:VEVENT
UID:5890d247-45d5-4b9c-a218-d6fb805751ed
DTSTAMP:20260422T180132Z
DESCRIPTION:ARTS & CRAFTS\nCLAY CHARACTER POTS\n@10:00AM\n\nARTS & CRAFTS\n
 CANVAS PAINTING\n@11:00AM\nEXERCISE\nFITNESS BINGO\n@12:00PM\n\nEXERCISE\n
 DANCE WITH ME\n@1:00PM\n\n*Resident only event*
DTSTART;TZID=America/Chicago:20240725T110000
DTEND;TZID=America/Chicago:20240725T120000
LOCATION:1717 FM359\, Richmond\, TX 77406 US
SUMMARY:Jones Creek: Exercise\, Arts & Crafts
END:VEVENT
END:VCALENDAR
