BEGIN:VCALENDAR
VERSION:2.0
PRODID:-//empowercdc.org//NONSGML kigkonsult.se iCalcreator 2.30.10//
CALSCALE:GREGORIAN
METHOD:PUBLISH
UID:58ce35b5-1448-4b1a-8732-e4066298716a
X-WR-CALDESC:Birthday Social Event for residents.\n\n*Resident only event*
X-WR-RELCALID:2c9a557cb187f7760c004cbf103957c8
X-WR-TIMEZONE:America/Chicago
BEGIN:VTIMEZONE
TZID:America/Chicago
BEGIN:STANDARD
TZNAME:CST
DTSTART:20231105T020000
TZOFFSETFROM:-0500
TZOFFSETTO:-0600
RDATE:20241103T020000
RDATE:20251102T020000
END:STANDARD
BEGIN:DAYLIGHT
TZNAME:CDT
DTSTART:20240310T020000
TZOFFSETFROM:-0600
TZOFFSETTO:-0500
RDATE:20250309T020000
END:DAYLIGHT
END:VTIMEZONE
BEGIN:VEVENT
UID:7dc92681-0054-4f14-987b-03f0d04fa41d
DTSTAMP:20260422T180233Z
DESCRIPTION:Birthday Social Event for residents.\n\n*Resident only event*
DTSTART;TZID=America/Chicago:20240725T113000
DTEND;TZID=America/Chicago:20240725T123000
LOCATION:1830 Hollyoak Dr\, Houston\, TX 77084 US
SUMMARY:Hollyoak: Birthday Social
END:VEVENT
END:VCALENDAR
