BEGIN:VCALENDAR
VERSION:2.0
PRODID:-//empowercdc.org//NONSGML kigkonsult.se iCalcreator 2.30.10//
CALSCALE:GREGORIAN
METHOD:PUBLISH
UID:0aca4b41-4a42-40ed-8ba3-9074269992ca
X-WR-CALDESC:Back to School event for the residents.\n\n*Resident only even
 t*
X-WR-RELCALID:6ac82aee2ea41f89be3885d1343ab2c8
X-WR-TIMEZONE:America/Chicago
BEGIN:VTIMEZONE
TZID:America/Chicago
BEGIN:STANDARD
TZNAME:CST
DTSTART:20231105T020000
TZOFFSETFROM:-0500
TZOFFSETTO:-0600
RDATE:20241103T020000
RDATE:20251102T020000
END:STANDARD
BEGIN:DAYLIGHT
TZNAME:CDT
DTSTART:20240310T020000
TZOFFSETFROM:-0600
TZOFFSETTO:-0500
RDATE:20250309T020000
END:DAYLIGHT
END:VTIMEZONE
BEGIN:VEVENT
UID:c5535789-1082-49f4-9fb8-44eab82e3d98
DTSTAMP:20260422T175743Z
DESCRIPTION:Back to School event for the residents.\n\n*Resident only event
 *
DTSTART;TZID=America/Chicago:20240725T140000
DTEND;TZID=America/Chicago:20240725T150000
LOCATION:6725 Brittmoore Road\, Houston\, TX 77041 US
SUMMARY:Brittmoore: Back to School
END:VEVENT
END:VCALENDAR
