BEGIN:VCALENDAR
VERSION:2.0
PRODID:-//empowercdc.org//NONSGML kigkonsult.se iCalcreator 2.30.10//
CALSCALE:GREGORIAN
METHOD:PUBLISH
UID:7cbebb5b-a816-47bb-836e-b4314633f267
X-WR-CALDESC:ARTS & CRAFTS: CHARACTER POTS\n@1:30PM\n\nSOCIAL: BEACH THEME 
 PARTY\n@2:30PM\n\nEXERCISE: DANCE WITH ME\n@3:30PM
X-WR-RELCALID:fe73e6481d110ad58d833738e8b91203
X-WR-TIMEZONE:America/Chicago
BEGIN:VTIMEZONE
TZID:America/Chicago
BEGIN:STANDARD
TZNAME:CST
DTSTART:20231105T020000
TZOFFSETFROM:-0500
TZOFFSETTO:-0600
RDATE:20241103T020000
RDATE:20251102T020000
END:STANDARD
BEGIN:DAYLIGHT
TZNAME:CDT
DTSTART:20240310T020000
TZOFFSETFROM:-0600
TZOFFSETTO:-0500
RDATE:20250309T020000
END:DAYLIGHT
END:VTIMEZONE
BEGIN:VEVENT
UID:4b6ac646-a59d-4be5-a67a-fb67ed1892db
DTSTAMP:20260422T180541Z
DESCRIPTION:ARTS & CRAFTS: CHARACTER POTS\n@1:30PM\n\nSOCIAL: BEACH THEME P
 ARTY\n@2:30PM\n\nEXERCISE: DANCE WITH ME\n@3:30PM
DTSTART;TZID=America/Chicago:20240724T133000
DTEND;TZID=America/Chicago:20240724T163000
LOCATION:15707 Kuykendahl Ct\, Conroe\, TX 77384 US
SUMMARY:Kuykendalh Court: Social\, Exercise\, Arts & Crafts
END:VEVENT
END:VCALENDAR
