BEGIN:VCALENDAR
VERSION:2.0
PRODID:-//empowercdc.org//NONSGML kigkonsult.se iCalcreator 2.30.10//
CALSCALE:GREGORIAN
METHOD:PUBLISH
UID:40e602d6-7c47-4bde-a0ad-5b2a168d0a49
X-WR-CALDESC:ARTS & CRAFTS\nCANVAS ART\n@1:00PM\n\n*Residents only event*
X-WR-RELCALID:b85a5100d4203deb73b5dc11d50afd5e
X-WR-TIMEZONE:America/Chicago
BEGIN:VTIMEZONE
TZID:America/Chicago
BEGIN:STANDARD
TZNAME:CST
DTSTART:20231105T020000
TZOFFSETFROM:-0500
TZOFFSETTO:-0600
RDATE:20241103T020000
RDATE:20251102T020000
END:STANDARD
BEGIN:DAYLIGHT
TZNAME:CDT
DTSTART:20240310T020000
TZOFFSETFROM:-0600
TZOFFSETTO:-0500
RDATE:20250309T020000
END:DAYLIGHT
END:VTIMEZONE
BEGIN:VEVENT
UID:b41153f8-8f3d-4139-a0f5-357625c7c15e
DTSTAMP:20260422T180035Z
DESCRIPTION:ARTS & CRAFTS\nCANVAS ART\n@1:00PM\n\n*Residents only event*
DTSTART;TZID=America/Chicago:20240723T130000
DTEND;TZID=America/Chicago:20240723T140000
LOCATION:219 Flagship Bld\, Montgomery\, TX 77316 US
SUMMARY:The Heritage: Arts & Crafts
END:VEVENT
END:VCALENDAR
