BEGIN:VCALENDAR
VERSION:2.0
PRODID:-//empowercdc.org//NONSGML kigkonsult.se iCalcreator 2.30.10//
CALSCALE:GREGORIAN
METHOD:PUBLISH
UID:b86c2710-0870-4bfd-aec1-950ec6fc77ca
X-WR-CALDESC:Residents will be working on various art activities. Event for
  Residents only.
X-WR-RELCALID:3c19b18035e6ab9ae47f9d538ba0cf75
X-WR-TIMEZONE:America/Chicago
BEGIN:VTIMEZONE
TZID:America/Chicago
BEGIN:STANDARD
TZNAME:CST
DTSTART:20231105T020000
TZOFFSETFROM:-0500
TZOFFSETTO:-0600
RDATE:20241103T020000
RDATE:20251102T020000
END:STANDARD
BEGIN:DAYLIGHT
TZNAME:CDT
DTSTART:20240310T020000
TZOFFSETFROM:-0600
TZOFFSETTO:-0500
RDATE:20250309T020000
END:DAYLIGHT
END:VTIMEZONE
BEGIN:VEVENT
UID:c7315f71-75a4-4880-87df-bddf836c718c
DTSTAMP:20260422T180126Z
DESCRIPTION:Residents will be working on various art activities. Event for 
 Residents only.
DTSTART;TZID=America/Chicago:20240723T110000
DTEND;TZID=America/Chicago:20240723T120000
LOCATION:219 Flagship Blvd\, Montgomery\, TX 77316 US
SUMMARY:The Heritage 55+: Arts & Craft
END:VEVENT
END:VCALENDAR
