BEGIN:VCALENDAR
VERSION:2.0
PRODID:-//empowercdc.org//NONSGML kigkonsult.se iCalcreator 2.30.10//
CALSCALE:GREGORIAN
METHOD:PUBLISH
UID:18324074-2aee-424a-9d69-5f2eddced239
X-WR-CALDESC:EXERCISE\nDANCE WITH ME\n@1:30PM\n\n*Resident only event*
X-WR-RELCALID:1ae2d7d2351c53f8437179034b6173ba
X-WR-TIMEZONE:America/Chicago
BEGIN:VTIMEZONE
TZID:America/Chicago
BEGIN:STANDARD
TZNAME:CST
DTSTART:20231105T020000
TZOFFSETFROM:-0500
TZOFFSETTO:-0600
RDATE:20241103T020000
RDATE:20251102T020000
END:STANDARD
BEGIN:DAYLIGHT
TZNAME:CDT
DTSTART:20240310T020000
TZOFFSETFROM:-0600
TZOFFSETTO:-0500
RDATE:20250309T020000
END:DAYLIGHT
END:VTIMEZONE
BEGIN:VEVENT
UID:21cf759f-55f0-49ae-b356-28cf82d6d47f
DTSTAMP:20260422T175636Z
DESCRIPTION:EXERCISE\nDANCE WITH ME\n@1:30PM\n\n*Resident only event*
DTSTART;TZID=America/Chicago:20240722T133000
DTEND;TZID=America/Chicago:20240722T143000
LOCATION:1620 Spencer Hwy\, South Houston\, TX 77587 US
SUMMARY:Windsor Gardens: Exercise
END:VEVENT
END:VCALENDAR
