BEGIN:VCALENDAR
VERSION:2.0
PRODID:-//empowercdc.org//NONSGML kigkonsult.se iCalcreator 2.30.10//
CALSCALE:GREGORIAN
METHOD:PUBLISH
UID:16a2186f-836b-4203-9486-0cdab8dc9f25
X-WR-CALDESC:Beach themed party for residents.\n\nFitness Bingo Exercise.\n
 \n*Resident only event*
X-WR-RELCALID:9e6af689d3d0976de38cc311ccdcf806
X-WR-TIMEZONE:America/Chicago
BEGIN:VTIMEZONE
TZID:America/Chicago
BEGIN:STANDARD
TZNAME:CST
DTSTART:20231105T020000
TZOFFSETFROM:-0500
TZOFFSETTO:-0600
RDATE:20241103T020000
RDATE:20251102T020000
END:STANDARD
BEGIN:DAYLIGHT
TZNAME:CDT
DTSTART:20240310T020000
TZOFFSETFROM:-0600
TZOFFSETTO:-0500
RDATE:20250309T020000
END:DAYLIGHT
END:VTIMEZONE
BEGIN:VEVENT
UID:201991d3-524e-415e-bb75-4759df75ac1a
DTSTAMP:20260422T180132Z
DESCRIPTION:Beach themed party for residents.\n\nFitness Bingo Exercise.\n
 \n*Resident only event*
DTSTART;TZID=America/Chicago:20240722T100000
DTEND;TZID=America/Chicago:20240722T120000
LOCATION:1717 FM359\, Richmond\, TX 77406 US
SUMMARY:Jones Creek: Beach Party\, Exercise
END:VEVENT
END:VCALENDAR
