BEGIN:VCALENDAR
VERSION:2.0
PRODID:-//empowercdc.org//NONSGML kigkonsult.se iCalcreator 2.30.10//
CALSCALE:GREGORIAN
METHOD:PUBLISH
UID:656a28d4-7c2d-4525-8a23-87261abb354a
X-WR-CALDESC:EXERCISE: Tai Chi\n@10:00AM\n\nARTS & CRAFTS: Unlimited Vision
 s\nVelvet Poster Art\n@11:00AM
X-WR-RELCALID:934a8b6d2207c04d8f3e123639bc0dec
X-WR-TIMEZONE:America/Chicago
BEGIN:VTIMEZONE
TZID:America/Chicago
BEGIN:STANDARD
TZNAME:CST
DTSTART:20231105T020000
TZOFFSETFROM:-0500
TZOFFSETTO:-0600
RDATE:20241103T020000
RDATE:20251102T020000
END:STANDARD
BEGIN:DAYLIGHT
TZNAME:CDT
DTSTART:20240310T020000
TZOFFSETFROM:-0600
TZOFFSETTO:-0500
RDATE:20250309T020000
END:DAYLIGHT
END:VTIMEZONE
BEGIN:VEVENT
UID:9f40b340-e889-479b-8e78-6e1af1a3f030
DTSTAMP:20260422T175901Z
DESCRIPTION:EXERCISE: Tai Chi\n@10:00AM\n\nARTS & CRAFTS: Unlimited Visions
 \nVelvet Poster Art\n@11:00AM
DTSTART;TZID=America/Chicago:20240722T100000
DTEND;TZID=America/Chicago:20240722T120000
LOCATION:1830 Hollyoak Dr\, Houston\, TX 77084 US
SUMMARY:Hollyoak: Exercise\, Arts & Crafts
END:VEVENT
END:VCALENDAR
