BEGIN:VCALENDAR
VERSION:2.0
PRODID:-//empowercdc.org//NONSGML kigkonsult.se iCalcreator 2.30.10//
CALSCALE:GREGORIAN
METHOD:PUBLISH
UID:9534d29d-6dc2-4fa0-9fbd-43a6c7b24e7d
X-WR-CALDESC:CHARACTER BUILDING-\nDinner Etiquette\n@1:00PM\n\nARTS & CRAFT
 S\nWindchime Art\n@2:00PM\n\n*Resident only event*
X-WR-RELCALID:c90097d4289cc5ad381ab5bbc1ae7835
X-WR-TIMEZONE:America/Chicago
BEGIN:VTIMEZONE
TZID:America/Chicago
BEGIN:STANDARD
TZNAME:CST
DTSTART:20231105T020000
TZOFFSETFROM:-0500
TZOFFSETTO:-0600
RDATE:20241103T020000
RDATE:20251102T020000
END:STANDARD
BEGIN:DAYLIGHT
TZNAME:CDT
DTSTART:20240310T020000
TZOFFSETFROM:-0600
TZOFFSETTO:-0500
RDATE:20250309T020000
END:DAYLIGHT
END:VTIMEZONE
BEGIN:VEVENT
UID:74fdba97-355f-4105-93ab-091d6595e19e
DTSTAMP:20260422T180300Z
DESCRIPTION:CHARACTER BUILDING-\nDinner Etiquette\n@1:00PM\n\nARTS & CRAFTS
 \nWindchime Art\n@2:00PM\n\n*Resident only event*
DTSTART;TZID=America/Chicago:20240719T130000
DTEND;TZID=America/Chicago:20240719T150000
LOCATION:12353 Huffmeister Rd\, Cypress\, TX 77429 US
SUMMARY:The Meadows: Social\, Arts & Crafts
END:VEVENT
END:VCALENDAR
