BEGIN:VCALENDAR
VERSION:2.0
PRODID:-//empowercdc.org//NONSGML kigkonsult.se iCalcreator 2.30.10//
CALSCALE:GREGORIAN
METHOD:PUBLISH
UID:f4f93073-0740-4306-b8c3-315389593672
X-WR-CALDESC:ARTS & CRAFTS\nCLAY POT CHARACTERS\n@11:30AM\n\nEXERCISE\nDANC
 E WITH ME\n@12:00PM\n\n*Resident only event*
X-WR-RELCALID:6fd7a5c824d169f213a6092498aa265a
X-WR-TIMEZONE:America/Chicago
BEGIN:VTIMEZONE
TZID:America/Chicago
BEGIN:STANDARD
TZNAME:CST
DTSTART:20231105T020000
TZOFFSETFROM:-0500
TZOFFSETTO:-0600
RDATE:20241103T020000
RDATE:20251102T020000
END:STANDARD
BEGIN:DAYLIGHT
TZNAME:CDT
DTSTART:20240310T020000
TZOFFSETFROM:-0600
TZOFFSETTO:-0500
RDATE:20250309T020000
END:DAYLIGHT
END:VTIMEZONE
BEGIN:VEVENT
UID:3a2d71d5-3040-45de-a24b-5aa51cb852e0
DTSTAMP:20260422T175829Z
DESCRIPTION:ARTS & CRAFTS\nCLAY POT CHARACTERS\n@11:30AM\n\nEXERCISE\nDANCE
  WITH ME\n@12:00PM\n\n*Resident only event*
DTSTART;TZID=America/Chicago:20240718T113000
DTEND;TZID=America/Chicago:20240718T130000
LOCATION:1620 Spencer Hwy\, South Houston\, TX 77587 US
SUMMARY:Windsor Gardens: Exercise\, Arts & Crafts
END:VEVENT
END:VCALENDAR
