BEGIN:VCALENDAR
VERSION:2.0
PRODID:-//empowercdc.org//NONSGML kigkonsult.se iCalcreator 2.30.10//
CALSCALE:GREGORIAN
METHOD:PUBLISH
UID:9b7368ac-7272-4b4c-8952-3ba21e20128b
X-WR-CALDESC:Food Pantry event for residents only.\n
X-WR-RELCALID:a973dcfa483208a95cf2cd9ef0ec272d
X-WR-TIMEZONE:America/Chicago
BEGIN:VTIMEZONE
TZID:America/Chicago
BEGIN:STANDARD
TZNAME:CST
DTSTART:20231105T020000
TZOFFSETFROM:-0500
TZOFFSETTO:-0600
RDATE:20241103T020000
RDATE:20251102T020000
END:STANDARD
BEGIN:DAYLIGHT
TZNAME:CDT
DTSTART:20240310T020000
TZOFFSETFROM:-0600
TZOFFSETTO:-0500
RDATE:20250309T020000
END:DAYLIGHT
END:VTIMEZONE
BEGIN:VEVENT
UID:31b50b48-e660-42c9-9e36-2cf416c43631
DTSTAMP:20260422T180305Z
DESCRIPTION:Food Pantry event for residents only.\n
DTSTART;TZID=America/Chicago:20240716T130000
DTEND;TZID=America/Chicago:20240716T140000
LOCATION:325 Flagship Boulevard\, Montgomery\, TX 77316 US
SUMMARY:The Heritage: Food Pantry
END:VEVENT
END:VCALENDAR
