BEGIN:VCALENDAR
VERSION:2.0
PRODID:-//empowercdc.org//NONSGML kigkonsult.se iCalcreator 2.30.10//
CALSCALE:GREGORIAN
METHOD:PUBLISH
UID:612faff2-cd03-47af-aedf-1c24e70847b9
X-WR-CALDESC:Dance With Me exercise for residents.\n\n*Resident only event*
X-WR-RELCALID:52886b7bdf3a668a34fa30a1a58f6759
X-WR-TIMEZONE:America/Chicago
BEGIN:VTIMEZONE
TZID:America/Chicago
BEGIN:STANDARD
TZNAME:CST
DTSTART:20231105T020000
TZOFFSETFROM:-0500
TZOFFSETTO:-0600
RDATE:20241103T020000
RDATE:20251102T020000
END:STANDARD
BEGIN:DAYLIGHT
TZNAME:CDT
DTSTART:20240310T020000
TZOFFSETFROM:-0600
TZOFFSETTO:-0500
RDATE:20250309T020000
END:DAYLIGHT
END:VTIMEZONE
BEGIN:VEVENT
UID:744bce86-0e2a-48ce-a307-1bda63db0a1c
DTSTAMP:20260422T175701Z
DESCRIPTION:Dance With Me exercise for residents.\n\n*Resident only event*
DTSTART;TZID=America/Chicago:20240711T110000
DTEND;TZID=America/Chicago:20240711T120000
LOCATION:1717 FM359\, Richmond\, TX 77406 US
SUMMARY:Jones Creek: Exercise
END:VEVENT
END:VCALENDAR
