BEGIN:VCALENDAR
VERSION:2.0
PRODID:-//empowercdc.org//NONSGML kigkonsult.se iCalcreator 2.30.10//
CALSCALE:GREGORIAN
METHOD:PUBLISH
UID:2ddfa78e-e962-47a8-bcef-208528e9a2df
X-WR-CALDESC:Unity Fitness: Chair exercise.\n\n*Resident only event*
X-WR-RELCALID:132345cbe5f6a5e1eb377266e77f1f9c
X-WR-TIMEZONE:America/Chicago
BEGIN:VTIMEZONE
TZID:America/Chicago
BEGIN:STANDARD
TZNAME:CST
DTSTART:20231105T020000
TZOFFSETFROM:-0500
TZOFFSETTO:-0600
RDATE:20241103T020000
RDATE:20251102T020000
END:STANDARD
BEGIN:DAYLIGHT
TZNAME:CDT
DTSTART:20240310T020000
TZOFFSETFROM:-0600
TZOFFSETTO:-0500
RDATE:20250309T020000
END:DAYLIGHT
END:VTIMEZONE
BEGIN:VEVENT
UID:b3b055dc-5882-4063-9d8d-bec48c662c02
DTSTAMP:20260422T175549Z
DESCRIPTION:Unity Fitness: Chair exercise.\n\n*Resident only event*
DTSTART;TZID=America/Chicago:20240710T110000
DTEND;TZID=America/Chicago:20240710T120000
LOCATION:1830 Hollyoak Dr\, Houston\, TX 77084 US
SUMMARY:Hollyoak: Exercise
END:VEVENT
END:VCALENDAR
